BEGIN:VCALENDAR
METHOD:PUBLISH
PRODID:-//Weblication CMS
VERSION:2.0
BEGIN:VEVENT
SUMMARY:Test-Ride / Trackday Circuit de Mirecourt
DTSTART:20260418T000000
DTEND:20260420T000000
DESCRIPTION:
LOCATION:270 rue de Champagne, Aéropole Sud Lorraine, 88500 Juvaincourt 
UID:https://www.klassik-motorsport.com/klassik_de/eventinfo/mlrecourt/rollout-mirecourt.php
URL:https://www.klassik-motorsport.com/klassik_de/eventinfo/mlrecourt/rollout-mirecourt.php
END:VEVENT
END:VCALENDAR